BEGIN:VCALENDAR
VERSION:2.0
PRODID:-//Library Market//iCal Export//EN
BEGIN:VEVENT
SUMMARY:Intergenerational Make &amp; Munch: Sensory Night!
UID:18098
DTSTAMP:20260419T143700Z
DTSTART:20260526T210000Z
DTEND:20260526T230000Z
LOCATION:East Asheville Library, 3 Avon Road, Asheville, NC 28805, United 
 States
ROOM: East Asheville Library - Children’s Programming Room
DESCRIPTION:This is a drop-in crafting program intended for community of a
 ll ages.  Children under 8 years old must have an accompanying adult with
  them the entire time they are attending the program.The library will prov
 ide food, so that families and community members can feed their creativity
  and their body! We will always require reservation for the event so that 
 the library can adjust how much food and drink is available and so that we
  can be aware of any food allergies in advance. The craft offering will ch
 ange from month to month, but all supplies will be provided by the library
 , so just bring yourself, your friends, and your family!This month&#039;s 
 craft will be focused on all things sensory!! Engage your senses by making
  slime, sensory glitter bottles, and stress balls! Plus, there will be oth
 er supplies to engage with and enjoy while you&#039;re in the room.This mo
 nth&#039;s menu is once again BYOP (Build Your Own Plate)! The library wil
 l provide a variety of finger foods including fruit, vegetables &amp; dip,
  meat &amp; cheese, and crackers.  Take what you want, leave what you don
 &#039;t!
URL:https://buncombe.librarycalendar.com/event/intergenerational-make-munc
 h-18098
END:VEVENT
END:VCALENDAR
