BEGIN:VCALENDAR
VERSION:2.0
PRODID:-//Library Market//iCal Export//EN
BEGIN:VEVENT
SUMMARY:Asheville Dulcimer Orchestra Spring Concert
UID:22787
DTSTAMP:20260425T025200Z
DTSTART:20260523T190000Z
DTEND:20260523T203000Z
LOCATION:East Asheville Library, 3 Avon Road, Asheville, NC 28805, United 
 States
ROOM: East Asheville Meeting Room AB
DESCRIPTION:Please join us at the East Asheville Library for the spring co
 ncert of the Asheville Dulcimer Orchestra!The Orchestra plays a varied pro
 gram that includes music across eras including classical, pop, and traditi
 onal songs.
URL:https://buncombe.librarycalendar.com/event/dulcimer-concert-22787
END:VEVENT
END:VCALENDAR
