BEGIN:VCALENDAR
VERSION:2.0
PRODID:-//Library Market//iCal Export//EN
BEGIN:VEVENT
SUMMARY:Tiny Tots Yoga with Ms. Brandon
UID:23737
DTSTAMP:20260424T023200Z
DTSTART:20260519T140000Z
DTEND:20260519T144500Z
LOCATION:North Asheville Library, 1030 Merrimon Ave, Asheville, NC 28804, 
 United States
ROOM: North Asheville Meeting Room
DESCRIPTION:Join Ms. Brandon at the North Asheville Library for a fun yoga
  class for children ages 1 to 3 and their caregivers. A fun combination of
  movement, songs, and games along with yoga poses and learning breathing t
 echniques. Good for everyone! Space is limited. Reserve your spot in advan
 ce by calling the North Asheville Library, stopping by the front desk, or 
 emailing sadie.rehm@buncombenc.gov.
URL:https://buncombe.librarycalendar.com/event/tiny-tots-yoga-ms-brandon-2
 3737
END:VEVENT
END:VCALENDAR
