BEGIN:VCALENDAR
VERSION:2.0
PRODID:-//Library Market//iCal Export//EN
BEGIN:VEVENT
SUMMARY:Tiny Tots Yoga
UID:24366
DTSTAMP:20260419T184100Z
DTSTART:20260513T150000Z
DTEND:20260513T154500Z
LOCATION:Swannanoa Library, 101 W. Charleston Ave, Swannanoa, NC 28778, Un
 ited States
ROOM: Swannanoa Meeting Room
DESCRIPTION:Join us for Tiny Tots Yoga with Ms. Brandon at the Swannanoa L
 ibrary. A fun combination of movement, songs, and stories along with yoga 
 poses and learning breath techniques--good for everyone!Registration is re
 quired as we have limited space indoors and can have 22 people total (care
 givers and children combined). Please list the attending caregiver as a se
 at in the registration process.Weather permitting we will have classes out
 side and space will be unlimited! Mats are not provided if class is held o
 utdoors. If you have any questions about the class or registration, pleas
 e call us at 828-250-6486.  
URL:https://buncombe.librarycalendar.com/event/tiny-tots-yoga-24366
END:VEVENT
END:VCALENDAR
