BEGIN:VCALENDAR
VERSION:2.0
PRODID:-//Library Market//iCal Export//EN
BEGIN:VEVENT
SUMMARY:YMCA - Outreach
UID:24391
DTSTAMP:20260419T143700Z
DTSTART:20260415T133000Z
DTEND:20260415T143000Z
LOCATION:YMCA, 30 Woodfin St, Asheville, NC, NC 28801, United States
ROOM: Leicester Library - Offsite Event
DESCRIPTION:
URL:https://buncombe.librarycalendar.com/event/ymca-outreach-24391
END:VEVENT
END:VCALENDAR
